BEGIN:VCALENDAR
VERSION:2.0
PRODID:-//wp-events-plugin.com//7.2.3.1//EN
TZID:America/Chicago
X-WR-TIMEZONE:America/Chicago
BEGIN:VEVENT
UID:2@nascona.org
DTSTART;TZID=America/Chicago:20240224T000000
DTEND;TZID=America/Chicago:20240406T000000
DTSTAMP:20240224T145405Z
URL:https://nascona.org/events/fbtl-2024-tie-dye-t-shirt-order-form
SUMMARY:FBTL 2024 Tie Dye T-shirt order form
DESCRIPTION:
END:VEVENT
BEGIN:VEVENT
UID:1@nascona.org
DTSTART;TZID=America/Chicago:20240224T000000
DTEND;TZID=America/Chicago:20240420T000000
DTSTAMP:20240224T145124Z
URL:https://nascona.org/events/fbtl-2024
SUMMARY:FBTL 2024
DESCRIPTION:
END:VEVENT
BEGIN:VEVENT
UID:3@nascona.org
DTSTART;TZID=America/Chicago:20240323T000000
DTEND;TZID=America/Chicago:20240323T000000
DTSTAMP:20240313T154520Z
URL:https://nascona.org/events/chili-cookoff
SUMMARY:Chili cookoff
DESCRIPTION:https://nascona.org/wp-content/uploads/2024/03/2024-03-23-chili
 -cookoff.pdf
END:VEVENT
BEGIN:VEVENT
UID:8@nascona.org
DTSTART;TZID=America/Chicago:20240720T130000
DTEND;TZID=America/Chicago:20240720T170000
DTSTAMP:20240524T012218Z
URL:https://nascona.org/events/https-nascona-org-wp-content-uploads-2024-0
 5-2024-06-20-hi-flyer-pdf
SUMMARY:Multi Area H & I / PR Learning day
DESCRIPTION:https://nascona.org/wp-content/uploads/2024/05/2024-06-20-HI-fl
 yer.pdf
END:VEVENT
BEGIN:VEVENT
UID:5@nascona.org
DTSTART;TZID=America/Chicago:20240929T140000
DTEND;TZID=America/Chicago:20240929T190000
DTSTAMP:20240321T210852Z
URL:https://nascona.org/events/new-hope-group-26th-anniversary
SUMMARY:New Hope group 26th Anniversary
DESCRIPTION:Save the Date New Hope anniversary
LOCATION:First Missionary Baptist Church\, 26787 FM 2090\, Splendora\, Texa
 s\, 77372\, United Kingdom
X-APPLE-STRUCTURED-LOCATION;VALUE=URI;X-ADDRESS=26787 FM 2090\, Splendora\,
  Texas\, 77372\, United Kingdom;X-APPLE-RADIUS=100;X-TITLE=First Missionar
 y Baptist Church:geo:0,0
END:VEVENT
BEGIN:VEVENT
UID:23@nascona.org
DTSTART;TZID=America/Chicago:20250126T180000
DTEND;TZID=America/Chicago:20250126T200000
DTSTAMP:20250113T030533Z
URL:https://nascona.org/events/new-hope-group-birthday-night
SUMMARY:New Hope Group Birthday Night
DESCRIPTION:The last Sunday of every month\, potluck fellowship.
END:VEVENT
BEGIN:VEVENT
UID:10@nascona.org
DTSTART;TZID=America/Chicago:20250202T131500
DTEND;TZID=America/Chicago:20250202T150000
DTSTAMP:20250113T025501Z
URL:https://nascona.org/events/area-service-commitee
SUMMARY:Area Service Commitee
DESCRIPTION:Meetings every first Sunday of the month at the Conroe Club
END:VEVENT
BEGIN:VEVENT
UID:24@nascona.org
DTSTART;TZID=America/Chicago:20250208T140000
DTEND;TZID=America/Chicago:20250208T170000
DTSTAMP:20250208T174925Z
URL:https://nascona.org/events/lake-conroe-group-poker-tournament
SUMMARY:Lake Conroe Group Poker Tournament
DESCRIPTION:Come play Texas Holdem &amp\; help raise funds for the 2025 Fel
 lowship by the Lake!\nHosted by Lake Conroe Group at The Conroe Club\n2030
  FM 2854\nConroe TX 77304\nPizza and drinks provided\, bring snacks &amp\;
  desserts\n$20 buy in\n$20 supplemental buy in\n\n&nbsp\;
END:VEVENT
BEGIN:VEVENT
UID:11@nascona.org
DTSTART;TZID=America/Chicago:20250302T131500
DTEND;TZID=America/Chicago:20250302T150000
DTSTAMP:20250113T025540Z
URL:https://nascona.org/events/area-service-commitee-2
SUMMARY:Area Service Commitee
DESCRIPTION:Meetings every first Sunday of the month at the Conroe Club
END:VEVENT
BEGIN:VEVENT
UID:7@nascona.org
DTSTART;TZID=America/Chicago;VALUE=DATE:20250321
DTEND;TZID=America/Chicago;VALUE=DATE:20250324
DTSTAMP:20250302T223834Z
URL:https://nascona.org/events/fbtl-2025
SUMMARY:Fellowship by the Lake 2025
DESCRIPTION:\n\nFBTL 2025 Flyer\n\nFBTL Information and Schedule_2025\n\nHu
 ntsville SP Map_FBTL
END:VEVENT
BEGIN:VEVENT
UID:18@nascona.org
DTSTART;TZID=America/Chicago:20250406T131500
DTEND;TZID=America/Chicago:20250406T150000
DTSTAMP:20250113T030006Z
URL:https://nascona.org/events/area-service-commitee-9
SUMMARY:Area Service Commitee
DESCRIPTION:Meetings every first Sunday of the month at the Conroe Club
END:VEVENT
BEGIN:VEVENT
UID:12@nascona.org
DTSTART;TZID=America/Chicago:20250504T131500
DTEND;TZID=America/Chicago:20250504T150000
DTSTAMP:20250113T025611Z
URL:https://nascona.org/events/area-service-commitee-3
SUMMARY:Area Service Commitee
DESCRIPTION:Meetings every first Sunday of the month at the Conroe Club
END:VEVENT
BEGIN:VEVENT
UID:21@nascona.org
DTSTART;TZID=America/Chicago:20250601T131500
DTEND;TZID=America/Chicago:20250601T150000
DTSTAMP:20250113T030207Z
URL:https://nascona.org/events/area-service-commitee-12
SUMMARY:Area Service Commitee
DESCRIPTION:Meetings every first Sunday of the month at the Conroe Club
END:VEVENT
BEGIN:VEVENT
UID:26@nascona.org
DTSTART;TZID=America/Chicago:20250621T100000
DTEND;TZID=America/Chicago:20250621T140000
DTSTAMP:20250604T213145Z
URL:https://nascona.org/events/fun-in-the-sun-day
SUMMARY:Fun in the Sun Day!
DESCRIPTION:BLTN Fun in Sun Day No Pets 21 June 2025\nFun in the Sun Day!\n
 $5.00 Entry Fee per Car\n\nBBQ Cookoff\n Bring your best BBQ to share\n
  Also need side dishes and desserts\nSwimming Area\nFishing Area\nCornh
 ole\nVolleyball\n\nNo Dogs or Other Pets\nAlso Bring (if you can)\n Cha
 irs\, tables\, and canopies\n\nLocation\nScott’s Ridge Recreation Area\n
 13274 Scott’s Ridge Rd\nMontgomery\, TX 77356\n\nFrom I-45 in Willis (ex
 it 94)\nTake FM-1097 West for 8.5 miles\nTurn right (north) on Scott’s R
 idge Road\nThe recreation area is at the end of the roa
END:VEVENT
BEGIN:VEVENT
UID:13@nascona.org
DTSTART;TZID=America/Chicago:20250706T131500
DTEND;TZID=America/Chicago:20250706T150000
DTSTAMP:20250113T025650Z
URL:https://nascona.org/events/area-service-commitee-4
SUMMARY:Area Service Commitee
DESCRIPTION:Meetings every first Sunday of the month at the Conroe Club
END:VEVENT
BEGIN:VEVENT
UID:27@nascona.org
DTSTART;TZID=America/Chicago:20250709T183000
DTEND;TZID=America/Chicago:20250709T203000
DTSTAMP:20250609T123811Z
URL:https://nascona.org/events/3978
SUMMARY:Show up & Growup 6 year anniversary celebration
DESCRIPTION:
END:VEVENT
BEGIN:VEVENT
UID:19@nascona.org
DTSTART;TZID=America/Chicago:20250803T131500
DTEND;TZID=America/Chicago:20250803T150000
DTSTAMP:20250113T030026Z
URL:https://nascona.org/events/area-service-commitee-10
SUMMARY:Area Service Commitee
DESCRIPTION:Meetings every first Sunday of the month at the Conroe Club
END:VEVENT
BEGIN:VEVENT
UID:20@nascona.org
DTSTART;TZID=America/Chicago:20250907T131500
DTEND;TZID=America/Chicago:20250907T150000
DTSTAMP:20250113T030041Z
URL:https://nascona.org/events/area-service-commitee-11
SUMMARY:Area Service Commitee
DESCRIPTION:Meetings every first Sunday of the month at the Conroe Club
END:VEVENT
BEGIN:VEVENT
UID:25@nascona.org
DTSTART;TZID=America/Chicago:20250928T150000
DTEND;TZID=America/Chicago:20250928T200000
DTSTAMP:20250302T231421Z
URL:https://nascona.org/events/new-hope-group-27th-anniversary
SUMMARY:New Hope Group 27th Anniversary
DESCRIPTION:
END:VEVENT
BEGIN:VEVENT
UID:22@nascona.org
DTSTART;TZID=America/Chicago:20251005T131500
DTEND;TZID=America/Chicago:20251005T150000
DTSTAMP:20250113T030237Z
URL:https://nascona.org/events/area-service-commitee-13
SUMMARY:Area Service Commitee
DESCRIPTION:Meetings every first Sunday of the month at the Conroe Club
END:VEVENT
BEGIN:VEVENT
UID:28@nascona.org
DTSTART;TZID=America/Chicago:20251018T120000
DTEND;TZID=America/Chicago:20251018T173000
DTSTAMP:20251006T180432Z
URL:https://nascona.org/events/h-i-learning-day
SUMMARY:H & I learning day
DESCRIPTION:
END:VEVENT
BEGIN:VEVENT
UID:35@nascona.org
DTSTART;TZID=America/Chicago:20251018T131500
DTEND;TZID=America/Chicago:20251018T141500
DTSTAMP:20251006T195122Z
URL:https://nascona.org/events/activities-subcommittee-meeting
SUMMARY:Activities Subcommittee Meeting
DESCRIPTION:Help us plan activities &amp\; spread unity across our area! No
  minimum clean time is required to serve in this subcommittee.
LOCATION:Conroe Club\, 2030 FM 2854\, Conroe\, Texas\, 77304\, United State
 s
X-APPLE-STRUCTURED-LOCATION;VALUE=URI;X-ADDRESS=2030 FM 2854\, Conroe\, Tex
 as\, 77304\, United States;X-APPLE-RADIUS=100;X-TITLE=Conroe Club:geo:0,0
END:VEVENT
BEGIN:VEVENT
UID:29@nascona.org
DTSTART;TZID=America/Chicago:20251019T140000
DTEND;TZID=America/Chicago:20251019T170000
DTSTAMP:20251006T180348Z
URL:https://nascona.org/events/nascona-area-fellowship-event
SUMMARY:NASCONA Area fellowship Event
DESCRIPTION:
END:VEVENT
BEGIN:VEVENT
UID:14@nascona.org
DTSTART;TZID=America/Chicago:20251102T131500
DTEND;TZID=America/Chicago:20251102T150000
DTSTAMP:20250113T025733Z
URL:https://nascona.org/events/area-service-commitee-5
SUMMARY:Area Service Commitee
DESCRIPTION:Meetings every first Sunday of the month at the Conroe Club
END:VEVENT
BEGIN:VEVENT
UID:36@nascona.org
DTSTART;TZID=America/Chicago:20251115T131500
DTEND;TZID=America/Chicago:20251115T141500
DTSTAMP:20251006T195216Z
URL:https://nascona.org/events/activities-subcommittee-meeting-2
SUMMARY:Activities Subcommittee Meeting
DESCRIPTION:Help us plan activities &amp\; spread unity across our area! No
  minimum clean time is required to serve in this subcommittee.
LOCATION:Conroe Club\, 2030 FM 2854\, Conroe\, Texas\, 77304\, United State
 s
X-APPLE-STRUCTURED-LOCATION;VALUE=URI;X-ADDRESS=2030 FM 2854\, Conroe\, Tex
 as\, 77304\, United States;X-APPLE-RADIUS=100;X-TITLE=Conroe Club:geo:0,0
END:VEVENT
BEGIN:VEVENT
UID:30@nascona.org
DTSTART;TZID=America/Chicago:20251115T133000
DTEND;TZID=America/Chicago:20251115T153000
DTSTAMP:20251006T180625Z
URL:https://nascona.org/events/h-i-orientation
SUMMARY:H & I orientation
DESCRIPTION:
END:VEVENT
BEGIN:VEVENT
UID:31@nascona.org
DTSTART;TZID=America/Chicago:20251122T130000
DTEND;TZID=America/Chicago:20251122T160000
DTSTAMP:20251006T182429Z
URL:https://nascona.org/events/nascona-gratitude-feast
SUMMARY:NASCONA Gratitude FEAST
DESCRIPTION:
END:VEVENT
BEGIN:VEVENT
UID:15@nascona.org
DTSTART;TZID=America/Chicago:20251207T131500
DTEND;TZID=America/Chicago:20251207T150000
DTSTAMP:20250113T025747Z
URL:https://nascona.org/events/area-service-commitee-6
SUMMARY:Area Service Commitee
DESCRIPTION:Meetings every first Sunday of the month at the Conroe Club
END:VEVENT
BEGIN:VEVENT
UID:16@nascona.org
DTSTART;TZID=America/Chicago:20260104T131500
DTEND;TZID=America/Chicago:20260104T150000
DTSTAMP:20250113T025803Z
URL:https://nascona.org/events/area-service-commitee-7
SUMMARY:Area Service Commitee
DESCRIPTION:Meetings every first Sunday of the month at the Conroe Club
END:VEVENT
BEGIN:VEVENT
UID:42@nascona.org
DTSTART;TZID=America/Chicago:20260308T140000
DTEND;TZID=America/Chicago:20260308T170000
DTSTAMP:20260204T200407Z
URL:https://nascona.org/events/northside-area-bowling
SUMMARY:Northside Area Bowling
DESCRIPTION:Come be part of your area 🎳\n\nThere is a $25 dollar fee tha
 t includes bowling shoes for 3 hours of playtime.\n\nNo addict turned away
 ! 
LOCATION:http://nascona.org/wp-content/uploads/2026/02/NASCONA-Bowling-Even
 t-2.jpg
END:VEVENT
BEGIN:VEVENT
UID:32@nascona.org
DTSTART;TZID=America/Chicago:20260320T100000
DTEND;TZID=America/Chicago:20260322T120000
DTSTAMP:20260204T023344Z
URL:https://nascona.org/events/fellowship-by-the-lake
SUMMARY:Fellowship by the lake
DESCRIPTION:See https://nascona.org/fellowship-by-the-lake for more info\n\
 nFBTL-Information-and-Schedule_2025 \n\nHuntsville-SP-Map_FBTL\n\n&nbsp\;
END:VEVENT
BEGIN:VEVENT
UID:17@nascona.org
DTSTART;TZID=America/Chicago:20260405T131500
DTEND;TZID=America/Chicago:20260405T150000
DTSTAMP:20250113T025833Z
URL:https://nascona.org/events/area-service-commitee-8
SUMMARY:Area Service Commitee
DESCRIPTION:Meetings every first Sunday of the month at the Conroe Club
END:VEVENT
BEGIN:VTIMEZONE
TZID:America/Chicago
X-LIC-LOCATION:America/Chicago
BEGIN:STANDARD
DTSTART:20231105T010000
TZOFFSETFROM:-0500
TZOFFSETTO:-0600
TZNAME:CST
END:STANDARD
BEGIN:DAYLIGHT
DTSTART:20240310T030000
TZOFFSETFROM:-0600
TZOFFSETTO:-0500
TZNAME:CDT
END:DAYLIGHT
BEGIN:STANDARD
DTSTART:20241103T010000
TZOFFSETFROM:-0500
TZOFFSETTO:-0600
TZNAME:CST
END:STANDARD
BEGIN:DAYLIGHT
DTSTART:20250309T030000
TZOFFSETFROM:-0600
TZOFFSETTO:-0500
TZNAME:CDT
END:DAYLIGHT
BEGIN:STANDARD
DTSTART:20251102T010000
TZOFFSETFROM:-0500
TZOFFSETTO:-0600
TZNAME:CST
END:STANDARD
BEGIN:DAYLIGHT
DTSTART:20260308T030000
TZOFFSETFROM:-0600
TZOFFSETTO:-0500
TZNAME:CDT
END:DAYLIGHT
END:VTIMEZONE
END:VCALENDAR